BEGIN:VCALENDAR
VERSION:2.0
PRODID:-//NY School Calendar//Buffalo 2025-2026//EN
CALSCALE:GREGORIAN
METHOD:PUBLISH
X-WR-CALNAME:Buffalo School Calendar 2025-2026
X-WR-TIMEZONE:America/New_York
BEGIN:VEVENT
DTSTART;VALUE=DATE:20250904
DTEND;VALUE=DATE:20250905
SUMMARY:First Day of School (Buffalo)
DESCRIPTION:Buffalo Public Schools 2025-2026 school year begins
UID:20250904-FirstDay-buffalo@nyschoolcalendar.com
STATUS:CONFIRMED
TRANSP:TRANSPARENT
END:VEVENT
BEGIN:VEVENT
DTSTART;VALUE=DATE:20260625
DTEND;VALUE=DATE:20260626
SUMMARY:Last Day of School (Buffalo)
DESCRIPTION:Buffalo Public Schools 2025-2026 school year ends
UID:20260625-LastDay-buffalo@nyschoolcalendar.com
STATUS:CONFIRMED
TRANSP:TRANSPARENT
END:VEVENT
BEGIN:VEVENT
DTSTART;VALUE=DATE:20250901
DTEND;VALUE=DATE:20250902
SUMMARY:Labor Day — No School
DESCRIPTION:Buffalo Public Schools school holiday
UID:20250901-LaborDay-buffalo@nyschoolcalendar.com
STATUS:CONFIRMED
TRANSP:TRANSPARENT
END:VEVENT
BEGIN:VEVENT
DTSTART;VALUE=DATE:20250902
DTEND;VALUE=DATE:20250903
SUMMARY:Supt. Conf. Day (Professional Development) — No School
DESCRIPTION:Buffalo Public Schools school holiday
UID:20250902-SuptConfDayProfessionalDevelopment-buffalo@nyschoolcalendar.com
STATUS:CONFIRMED
TRANSP:TRANSPARENT
END:VEVENT
BEGIN:VEVENT
DTSTART;VALUE=DATE:20250903
DTEND;VALUE=DATE:20250904
SUMMARY:Teacher Set-up Day — No School
DESCRIPTION:Buffalo Public Schools school holiday
UID:20250903-TeacherSetupDay-buffalo@nyschoolcalendar.com
STATUS:CONFIRMED
TRANSP:TRANSPARENT
END:VEVENT
BEGIN:VEVENT
DTSTART;VALUE=DATE:20251013
DTEND;VALUE=DATE:20251014
SUMMARY:Indigenous Peoples' & Italian Heritage Day — No School
DESCRIPTION:Buffalo Public Schools school holiday
UID:20251013-IndigenousPeoplesItalianHeritageDay-buffalo@nyschoolcalendar.com
STATUS:CONFIRMED
TRANSP:TRANSPARENT
END:VEVENT
BEGIN:VEVENT
DTSTART;VALUE=DATE:20251104
DTEND;VALUE=DATE:20251105
SUMMARY:Election Day — No School
DESCRIPTION:Buffalo Public Schools school holiday
UID:20251104-ElectionDay-buffalo@nyschoolcalendar.com
STATUS:CONFIRMED
TRANSP:TRANSPARENT
END:VEVENT
BEGIN:VEVENT
DTSTART;VALUE=DATE:20251111
DTEND;VALUE=DATE:20251112
SUMMARY:Veterans Day — No School
DESCRIPTION:Buffalo Public Schools school holiday
UID:20251111-VeteransDay-buffalo@nyschoolcalendar.com
STATUS:CONFIRMED
TRANSP:TRANSPARENT
END:VEVENT
BEGIN:VEVENT
DTSTART;VALUE=DATE:20251126
DTEND;VALUE=DATE:20251127
SUMMARY:Thanksgiving — No School
DESCRIPTION:Buffalo Public Schools school holiday
UID:20251126-Thanksgiving-buffalo@nyschoolcalendar.com
STATUS:CONFIRMED
TRANSP:TRANSPARENT
END:VEVENT
BEGIN:VEVENT
DTSTART;VALUE=DATE:20251127
DTEND;VALUE=DATE:20251128
SUMMARY:Thanksgiving — No School
DESCRIPTION:Buffalo Public Schools school holiday
UID:20251127-Thanksgiving-buffalo@nyschoolcalendar.com
STATUS:CONFIRMED
TRANSP:TRANSPARENT
END:VEVENT
BEGIN:VEVENT
DTSTART;VALUE=DATE:20251128
DTEND;VALUE=DATE:20251129
SUMMARY:Day after Thanksgiving — No School
DESCRIPTION:Buffalo Public Schools school holiday
UID:20251128-DayafterThanksgiving-buffalo@nyschoolcalendar.com
STATUS:CONFIRMED
TRANSP:TRANSPARENT
END:VEVENT
BEGIN:VEVENT
DTSTART;VALUE=DATE:20260119
DTEND;VALUE=DATE:20260120
SUMMARY:Dr. MLK Jr. Day — No School
DESCRIPTION:Buffalo Public Schools school holiday
UID:20260119-DrMLKJrDay-buffalo@nyschoolcalendar.com
STATUS:CONFIRMED
TRANSP:TRANSPARENT
END:VEVENT
BEGIN:VEVENT
DTSTART;VALUE=DATE:20260320
DTEND;VALUE=DATE:20260321
SUMMARY:Eid al-Fitr — No School
DESCRIPTION:Buffalo Public Schools school holiday
UID:20260320-EidalFitr-buffalo@nyschoolcalendar.com
STATUS:CONFIRMED
TRANSP:TRANSPARENT
END:VEVENT
BEGIN:VEVENT
DTSTART;VALUE=DATE:20260514
DTEND;VALUE=DATE:20260515
SUMMARY:Supt. Conf. Day / NYS Test Scoring — No School
DESCRIPTION:Buffalo Public Schools school holiday
UID:20260514-SuptConfDayNYSTestScoring-buffalo@nyschoolcalendar.com
STATUS:CONFIRMED
TRANSP:TRANSPARENT
END:VEVENT
BEGIN:VEVENT
DTSTART;VALUE=DATE:20260515
DTEND;VALUE=DATE:20260516
SUMMARY:Supt. Conf. Day / NYS Test Scoring — No School
DESCRIPTION:Buffalo Public Schools school holiday
UID:20260515-SuptConfDayNYSTestScoring-buffalo@nyschoolcalendar.com
STATUS:CONFIRMED
TRANSP:TRANSPARENT
END:VEVENT
BEGIN:VEVENT
DTSTART;VALUE=DATE:20260525
DTEND;VALUE=DATE:20260526
SUMMARY:Memorial Day — No School
DESCRIPTION:Buffalo Public Schools school holiday
UID:20260525-MemorialDay-buffalo@nyschoolcalendar.com
STATUS:CONFIRMED
TRANSP:TRANSPARENT
END:VEVENT
BEGIN:VEVENT
DTSTART;VALUE=DATE:20260619
DTEND;VALUE=DATE:20260620
SUMMARY:Juneteenth Holiday — No School
DESCRIPTION:Buffalo Public Schools school holiday
UID:20260619-JuneteenthHoliday-buffalo@nyschoolcalendar.com
STATUS:CONFIRMED
TRANSP:TRANSPARENT
END:VEVENT
BEGIN:VEVENT
DTSTART;VALUE=DATE:20251224
DTEND;VALUE=DATE:20260103
SUMMARY:Winter Recess — No School
DESCRIPTION:Buffalo Public Schools Winter Recess
UID:20251224-WinterRecess-buffalo@nyschoolcalendar.com
STATUS:CONFIRMED
TRANSP:TRANSPARENT
END:VEVENT
BEGIN:VEVENT
DTSTART;VALUE=DATE:20260216
DTEND;VALUE=DATE:20260221
SUMMARY:Mid-Winter Recess — No School
DESCRIPTION:Buffalo Public Schools Mid-Winter Recess
UID:20260216-MidWinterRecess-buffalo@nyschoolcalendar.com
STATUS:CONFIRMED
TRANSP:TRANSPARENT
END:VEVENT
BEGIN:VEVENT
DTSTART;VALUE=DATE:20260403
DTEND;VALUE=DATE:20260411
SUMMARY:Spring Recess — No School
DESCRIPTION:Buffalo Public Schools Spring Recess
UID:20260403-SpringRecess-buffalo@nyschoolcalendar.com
STATUS:CONFIRMED
TRANSP:TRANSPARENT
END:VEVENT
BEGIN:VEVENT
DTSTART;VALUE=DATE:20270126
DTEND;VALUE=DATE:20270130
SUMMARY:Regents Exams (January) (Buffalo)
DESCRIPTION:Buffalo Public Schools — Regents Exams (January)
UID:20270126-RegentsExamsJanuary-buffalo@nyschoolcalendar.com
STATUS:CONFIRMED
TRANSP:TRANSPARENT
END:VEVENT
BEGIN:VEVENT
DTSTART;VALUE=DATE:20270615
DTEND;VALUE=DATE:20270626
SUMMARY:Regents Exams (June) (Buffalo)
DESCRIPTION:Buffalo Public Schools — Regents Exams (June)
UID:20270615-RegentsExamsJune-buffalo@nyschoolcalendar.com
STATUS:CONFIRMED
TRANSP:TRANSPARENT
END:VEVENT
END:VCALENDAR
