BEGIN:VCALENDAR
VERSION:2.0
PRODID:-//NY School Calendar//Buffalo 2026-2027//EN
CALSCALE:GREGORIAN
METHOD:PUBLISH
X-WR-CALNAME:Buffalo School Calendar 2026-2027
X-WR-TIMEZONE:America/New_York
BEGIN:VEVENT
DTSTART;VALUE=DATE:20260908
DTEND;VALUE=DATE:20260909
SUMMARY:First Day of School (Buffalo)
DESCRIPTION:Buffalo Public Schools 2026-2027 school year begins
UID:20260908-FirstDay-buffalo@nyschoolcalendar.com
STATUS:CONFIRMED
TRANSP:TRANSPARENT
END:VEVENT
BEGIN:VEVENT
DTSTART;VALUE=DATE:20270622
DTEND;VALUE=DATE:20270623
SUMMARY:Last Day of School (Buffalo)
DESCRIPTION:Buffalo Public Schools 2026-2027 school year ends
UID:20270622-LastDay-buffalo@nyschoolcalendar.com
STATUS:CONFIRMED
TRANSP:TRANSPARENT
END:VEVENT
BEGIN:VEVENT
DTSTART;VALUE=DATE:20260907
DTEND;VALUE=DATE:20260908
SUMMARY:Labor Day — No School
DESCRIPTION:Buffalo Public Schools school holiday
UID:20260907-LaborDay-buffalo@nyschoolcalendar.com
STATUS:CONFIRMED
TRANSP:TRANSPARENT
END:VEVENT
BEGIN:VEVENT
DTSTART;VALUE=DATE:20261012
DTEND;VALUE=DATE:20261013
SUMMARY:Indigenous Peoples' & Italian Heritage Day — No School
DESCRIPTION:Buffalo Public Schools school holiday
UID:20261012-IndigenousPeoplesItalianHeritageDay-buffalo@nyschoolcalendar.com
STATUS:CONFIRMED
TRANSP:TRANSPARENT
END:VEVENT
BEGIN:VEVENT
DTSTART;VALUE=DATE:20261103
DTEND;VALUE=DATE:20261104
SUMMARY:Election Day — No School
DESCRIPTION:Buffalo Public Schools school holiday
UID:20261103-ElectionDay-buffalo@nyschoolcalendar.com
STATUS:CONFIRMED
TRANSP:TRANSPARENT
END:VEVENT
BEGIN:VEVENT
DTSTART;VALUE=DATE:20261111
DTEND;VALUE=DATE:20261112
SUMMARY:Veterans Day — No School
DESCRIPTION:Buffalo Public Schools school holiday
UID:20261111-VeteransDay-buffalo@nyschoolcalendar.com
STATUS:CONFIRMED
TRANSP:TRANSPARENT
END:VEVENT
BEGIN:VEVENT
DTSTART;VALUE=DATE:20261126
DTEND;VALUE=DATE:20261127
SUMMARY:Thanksgiving — No School
DESCRIPTION:Buffalo Public Schools school holiday
UID:20261126-Thanksgiving-buffalo@nyschoolcalendar.com
STATUS:CONFIRMED
TRANSP:TRANSPARENT
END:VEVENT
BEGIN:VEVENT
DTSTART;VALUE=DATE:20261127
DTEND;VALUE=DATE:20261128
SUMMARY:Day after Thanksgiving — No School
DESCRIPTION:Buffalo Public Schools school holiday
UID:20261127-DayafterThanksgiving-buffalo@nyschoolcalendar.com
STATUS:CONFIRMED
TRANSP:TRANSPARENT
END:VEVENT
BEGIN:VEVENT
DTSTART;VALUE=DATE:20270118
DTEND;VALUE=DATE:20270119
SUMMARY:MLK Day — No School
DESCRIPTION:Buffalo Public Schools school holiday
UID:20270118-MLKDay-buffalo@nyschoolcalendar.com
STATUS:CONFIRMED
TRANSP:TRANSPARENT
END:VEVENT
BEGIN:VEVENT
DTSTART;VALUE=DATE:20270215
DTEND;VALUE=DATE:20270216
SUMMARY:Presidents' Day — No School
DESCRIPTION:Buffalo Public Schools school holiday
UID:20270215-PresidentsDay-buffalo@nyschoolcalendar.com
STATUS:CONFIRMED
TRANSP:TRANSPARENT
END:VEVENT
BEGIN:VEVENT
DTSTART;VALUE=DATE:20270326
DTEND;VALUE=DATE:20270327
SUMMARY:Good Friday — No School
DESCRIPTION:Buffalo Public Schools school holiday
UID:20270326-GoodFriday-buffalo@nyschoolcalendar.com
STATUS:CONFIRMED
TRANSP:TRANSPARENT
END:VEVENT
BEGIN:VEVENT
DTSTART;VALUE=DATE:20270531
DTEND;VALUE=DATE:20270601
SUMMARY:Memorial Day — No School
DESCRIPTION:Buffalo Public Schools school holiday
UID:20270531-MemorialDay-buffalo@nyschoolcalendar.com
STATUS:CONFIRMED
TRANSP:TRANSPARENT
END:VEVENT
BEGIN:VEVENT
DTSTART;VALUE=DATE:20261224
DTEND;VALUE=DATE:20270102
SUMMARY:Winter Recess — No School
DESCRIPTION:Buffalo Public Schools Winter Recess
UID:20261224-WinterRecess-buffalo@nyschoolcalendar.com
STATUS:CONFIRMED
TRANSP:TRANSPARENT
END:VEVENT
BEGIN:VEVENT
DTSTART;VALUE=DATE:20270216
DTEND;VALUE=DATE:20270220
SUMMARY:February Recess — No School
DESCRIPTION:Buffalo Public Schools February Recess
UID:20270216-FebruaryRecess-buffalo@nyschoolcalendar.com
STATUS:CONFIRMED
TRANSP:TRANSPARENT
END:VEVENT
BEGIN:VEVENT
DTSTART;VALUE=DATE:20270420
DTEND;VALUE=DATE:20270424
SUMMARY:Spring Recess — No School
DESCRIPTION:Buffalo Public Schools Spring Recess
UID:20270420-SpringRecess-buffalo@nyschoolcalendar.com
STATUS:CONFIRMED
TRANSP:TRANSPARENT
END:VEVENT
BEGIN:VEVENT
DTSTART;VALUE=DATE:20270126
DTEND;VALUE=DATE:20270130
SUMMARY:Regents Exams (January) (Buffalo)
DESCRIPTION:Buffalo Public Schools — Regents Exams (January)
UID:20270126-RegentsExamsJanuary-buffalo@nyschoolcalendar.com
STATUS:CONFIRMED
TRANSP:TRANSPARENT
END:VEVENT
BEGIN:VEVENT
DTSTART;VALUE=DATE:20270615
DTEND;VALUE=DATE:20270623
SUMMARY:Regents Exams (June) (Buffalo)
DESCRIPTION:Buffalo Public Schools — Regents Exams (June)
UID:20270615-RegentsExamsJune-buffalo@nyschoolcalendar.com
STATUS:CONFIRMED
TRANSP:TRANSPARENT
END:VEVENT
END:VCALENDAR
