BEGIN:VCALENDAR
VERSION:2.0
PRODID:-//NY School Calendar//East Meadow 2026-2027//EN
CALSCALE:GREGORIAN
METHOD:PUBLISH
X-WR-CALNAME:East Meadow School Calendar 2026-2027
X-WR-TIMEZONE:America/New_York
BEGIN:VEVENT
DTSTART;VALUE=DATE:20260902
DTEND;VALUE=DATE:20260903
SUMMARY:First Day of School (East Meadow)
DESCRIPTION:East Meadow Union Free School District 2026-2027 school year begins
UID:20260902-FirstDay-eastmeadow@nyschoolcalendar.com
STATUS:CONFIRMED
TRANSP:TRANSPARENT
END:VEVENT
BEGIN:VEVENT
DTSTART;VALUE=DATE:20270625
DTEND;VALUE=DATE:20270626
SUMMARY:Last Day of School (East Meadow)
DESCRIPTION:East Meadow Union Free School District 2026-2027 school year ends
UID:20270625-LastDay-eastmeadow@nyschoolcalendar.com
STATUS:CONFIRMED
TRANSP:TRANSPARENT
END:VEVENT
BEGIN:VEVENT
DTSTART;VALUE=DATE:20260901
DTEND;VALUE=DATE:20260902
SUMMARY:Supt's. Conf. Day; Teachers Report — No School
DESCRIPTION:East Meadow Union Free School District school holiday
UID:20260901-SuptsConfDayTeachersReport-eastmeadow@nyschoolcalendar.com
STATUS:CONFIRMED
TRANSP:TRANSPARENT
END:VEVENT
BEGIN:VEVENT
DTSTART;VALUE=DATE:20260907
DTEND;VALUE=DATE:20260908
SUMMARY:Labor Day — No School
DESCRIPTION:East Meadow Union Free School District school holiday
UID:20260907-LaborDay-eastmeadow@nyschoolcalendar.com
STATUS:CONFIRMED
TRANSP:TRANSPARENT
END:VEVENT
BEGIN:VEVENT
DTSTART;VALUE=DATE:20260921
DTEND;VALUE=DATE:20260922
SUMMARY:Yom Kippur — No School
DESCRIPTION:East Meadow Union Free School District school holiday
UID:20260921-YomKippur-eastmeadow@nyschoolcalendar.com
STATUS:CONFIRMED
TRANSP:TRANSPARENT
END:VEVENT
BEGIN:VEVENT
DTSTART;VALUE=DATE:20261012
DTEND;VALUE=DATE:20261013
SUMMARY:Columbus Day — No School
DESCRIPTION:East Meadow Union Free School District school holiday
UID:20261012-ColumbusDay-eastmeadow@nyschoolcalendar.com
STATUS:CONFIRMED
TRANSP:TRANSPARENT
END:VEVENT
BEGIN:VEVENT
DTSTART;VALUE=DATE:20261103
DTEND;VALUE=DATE:20261104
SUMMARY:Election Day; Schools Closed / Supt's. Conf. Day; Teachers Report — No School
DESCRIPTION:East Meadow Union Free School District school holiday
UID:20261103-ElectionDaySchoolsClosedSuptsConfDayTeachersReport-eastmeadow@nyschoolcalendar.com
STATUS:CONFIRMED
TRANSP:TRANSPARENT
END:VEVENT
BEGIN:VEVENT
DTSTART;VALUE=DATE:20261111
DTEND;VALUE=DATE:20261112
SUMMARY:Veterans Day — No School
DESCRIPTION:East Meadow Union Free School District school holiday
UID:20261111-VeteransDay-eastmeadow@nyschoolcalendar.com
STATUS:CONFIRMED
TRANSP:TRANSPARENT
END:VEVENT
BEGIN:VEVENT
DTSTART;VALUE=DATE:20261126
DTEND;VALUE=DATE:20261127
SUMMARY:Thanksgiving — No School
DESCRIPTION:East Meadow Union Free School District school holiday
UID:20261126-Thanksgiving-eastmeadow@nyschoolcalendar.com
STATUS:CONFIRMED
TRANSP:TRANSPARENT
END:VEVENT
BEGIN:VEVENT
DTSTART;VALUE=DATE:20261127
DTEND;VALUE=DATE:20261128
SUMMARY:Day after Thanksgiving — No School
DESCRIPTION:East Meadow Union Free School District school holiday
UID:20261127-DayafterThanksgiving-eastmeadow@nyschoolcalendar.com
STATUS:CONFIRMED
TRANSP:TRANSPARENT
END:VEVENT
BEGIN:VEVENT
DTSTART;VALUE=DATE:20270118
DTEND;VALUE=DATE:20270119
SUMMARY:Martin Luther King Day — No School
DESCRIPTION:East Meadow Union Free School District school holiday
UID:20270118-MartinLutherKingDay-eastmeadow@nyschoolcalendar.com
STATUS:CONFIRMED
TRANSP:TRANSPARENT
END:VEVENT
BEGIN:VEVENT
DTSTART;VALUE=DATE:20270215
DTEND;VALUE=DATE:20270216
SUMMARY:Presidents' Day — No School
DESCRIPTION:East Meadow Union Free School District school holiday
UID:20270215-PresidentsDay-eastmeadow@nyschoolcalendar.com
STATUS:CONFIRMED
TRANSP:TRANSPARENT
END:VEVENT
BEGIN:VEVENT
DTSTART;VALUE=DATE:20270309
DTEND;VALUE=DATE:20270310
SUMMARY:Eid al-Fitr/Supt's. Conf. Day; Teachers Report — No School
DESCRIPTION:East Meadow Union Free School District school holiday
UID:20270309-EidalFitrSuptsConfDayTeachersReport-eastmeadow@nyschoolcalendar.com
STATUS:CONFIRMED
TRANSP:TRANSPARENT
END:VEVENT
BEGIN:VEVENT
DTSTART;VALUE=DATE:20270325
DTEND;VALUE=DATE:20270326
SUMMARY:Easter Recess — No School
DESCRIPTION:East Meadow Union Free School District school holiday
UID:20270325-EasterRecess-eastmeadow@nyschoolcalendar.com
STATUS:CONFIRMED
TRANSP:TRANSPARENT
END:VEVENT
BEGIN:VEVENT
DTSTART;VALUE=DATE:20270326
DTEND;VALUE=DATE:20270327
SUMMARY:Easter Recess — No School
DESCRIPTION:East Meadow Union Free School District school holiday
UID:20270326-EasterRecess-eastmeadow@nyschoolcalendar.com
STATUS:CONFIRMED
TRANSP:TRANSPARENT
END:VEVENT
BEGIN:VEVENT
DTSTART;VALUE=DATE:20270329
DTEND;VALUE=DATE:20270330
SUMMARY:Easter Monday — No School
DESCRIPTION:East Meadow Union Free School District school holiday
UID:20270329-EasterMonday-eastmeadow@nyschoolcalendar.com
STATUS:CONFIRMED
TRANSP:TRANSPARENT
END:VEVENT
BEGIN:VEVENT
DTSTART;VALUE=DATE:20270517
DTEND;VALUE=DATE:20270518
SUMMARY:Eid al-Adha — No School
DESCRIPTION:East Meadow Union Free School District school holiday
UID:20270517-EidalAdha-eastmeadow@nyschoolcalendar.com
STATUS:CONFIRMED
TRANSP:TRANSPARENT
END:VEVENT
BEGIN:VEVENT
DTSTART;VALUE=DATE:20270531
DTEND;VALUE=DATE:20270601
SUMMARY:Memorial Day — No School
DESCRIPTION:East Meadow Union Free School District school holiday
UID:20270531-MemorialDay-eastmeadow@nyschoolcalendar.com
STATUS:CONFIRMED
TRANSP:TRANSPARENT
END:VEVENT
BEGIN:VEVENT
DTSTART;VALUE=DATE:20270618
DTEND;VALUE=DATE:20270619
SUMMARY:Juneteenth (Observed) — No School
DESCRIPTION:East Meadow Union Free School District school holiday
UID:20270618-JuneteenthObserved-eastmeadow@nyschoolcalendar.com
STATUS:CONFIRMED
TRANSP:TRANSPARENT
END:VEVENT
BEGIN:VEVENT
DTSTART;VALUE=DATE:20261224
DTEND;VALUE=DATE:20270102
SUMMARY:Holiday Recess — No School
DESCRIPTION:East Meadow Union Free School District Holiday Recess
UID:20261224-HolidayRecess-eastmeadow@nyschoolcalendar.com
STATUS:CONFIRMED
TRANSP:TRANSPARENT
END:VEVENT
BEGIN:VEVENT
DTSTART;VALUE=DATE:20270215
DTEND;VALUE=DATE:20270220
SUMMARY:Winter Recess — No School
DESCRIPTION:East Meadow Union Free School District Winter Recess
UID:20270215-WinterRecess-eastmeadow@nyschoolcalendar.com
STATUS:CONFIRMED
TRANSP:TRANSPARENT
END:VEVENT
BEGIN:VEVENT
DTSTART;VALUE=DATE:20270422
DTEND;VALUE=DATE:20270501
SUMMARY:Passover / Spring Recess — No School
DESCRIPTION:East Meadow Union Free School District Passover / Spring Recess
UID:20270422-PassoverSpringRecess-eastmeadow@nyschoolcalendar.com
STATUS:CONFIRMED
TRANSP:TRANSPARENT
END:VEVENT
BEGIN:VEVENT
DTSTART;VALUE=DATE:20270126
DTEND;VALUE=DATE:20270130
SUMMARY:Regents Exams (January) (East Meadow)
DESCRIPTION:East Meadow Union Free School District — Regents Exams (January)
UID:20270126-RegentsExamsJanuary-eastmeadow@nyschoolcalendar.com
STATUS:CONFIRMED
TRANSP:TRANSPARENT
END:VEVENT
BEGIN:VEVENT
DTSTART;VALUE=DATE:20270615
DTEND;VALUE=DATE:20270626
SUMMARY:Regents Exams (June) (East Meadow)
DESCRIPTION:East Meadow Union Free School District — Regents Exams (June)
UID:20270615-RegentsExamsJune-eastmeadow@nyschoolcalendar.com
STATUS:CONFIRMED
TRANSP:TRANSPARENT
END:VEVENT
END:VCALENDAR
