BEGIN:VCALENDAR
VERSION:2.0
PRODID:-//NY School Calendar//NYC 2025-2026//EN
CALSCALE:GREGORIAN
METHOD:PUBLISH
X-WR-CALNAME:NYC School Calendar 2025-2026
X-WR-TIMEZONE:America/New_York
BEGIN:VEVENT
DTSTART;VALUE=DATE:20250904
DTEND;VALUE=DATE:20250905
SUMMARY:First Day of School (NYC)
DESCRIPTION:NYC Public Schools (DOE) 2025-2026 school year begins
UID:20250904-FirstDay-nyc@nyschoolcalendar.com
STATUS:CONFIRMED
TRANSP:TRANSPARENT
END:VEVENT
BEGIN:VEVENT
DTSTART;VALUE=DATE:20260626
DTEND;VALUE=DATE:20260627
SUMMARY:Last Day of School (NYC)
DESCRIPTION:NYC Public Schools (DOE) 2025-2026 school year ends
UID:20260626-LastDay-nyc@nyschoolcalendar.com
STATUS:CONFIRMED
TRANSP:TRANSPARENT
END:VEVENT
BEGIN:VEVENT
DTSTART;VALUE=DATE:20250901
DTEND;VALUE=DATE:20250902
SUMMARY:Labor Day — No School
DESCRIPTION:NYC Public Schools (DOE) school holiday
UID:20250901-LaborDay-nyc@nyschoolcalendar.com
STATUS:CONFIRMED
TRANSP:TRANSPARENT
END:VEVENT
BEGIN:VEVENT
DTSTART;VALUE=DATE:20250923
DTEND;VALUE=DATE:20250924
SUMMARY:Rosh Hashanah — No School
DESCRIPTION:NYC Public Schools (DOE) school holiday
UID:20250923-RoshHashanah-nyc@nyschoolcalendar.com
STATUS:CONFIRMED
TRANSP:TRANSPARENT
END:VEVENT
BEGIN:VEVENT
DTSTART;VALUE=DATE:20250924
DTEND;VALUE=DATE:20250925
SUMMARY:Rosh Hashanah — No School
DESCRIPTION:NYC Public Schools (DOE) school holiday
UID:20250924-RoshHashanah-nyc@nyschoolcalendar.com
STATUS:CONFIRMED
TRANSP:TRANSPARENT
END:VEVENT
BEGIN:VEVENT
DTSTART;VALUE=DATE:20251002
DTEND;VALUE=DATE:20251003
SUMMARY:Yom Kippur, schools closed — No School
DESCRIPTION:NYC Public Schools (DOE) school holiday
UID:20251002-YomKippurschoolsclosed-nyc@nyschoolcalendar.com
STATUS:CONFIRMED
TRANSP:TRANSPARENT
END:VEVENT
BEGIN:VEVENT
DTSTART;VALUE=DATE:20251013
DTEND;VALUE=DATE:20251014
SUMMARY:Italian Heritage/Indigenous Peoples' Day, schools closed — No School
DESCRIPTION:NYC Public Schools (DOE) school holiday
UID:20251013-ItalianHeritageIndigenousPeoplesDayschoolsclosed-nyc@nyschoolcalendar.com
STATUS:CONFIRMED
TRANSP:TRANSPARENT
END:VEVENT
BEGIN:VEVENT
DTSTART;VALUE=DATE:20251020
DTEND;VALUE=DATE:20251021
SUMMARY:Diwali, schools closed — No School
DESCRIPTION:NYC Public Schools (DOE) school holiday
UID:20251020-Diwalischoolsclosed-nyc@nyschoolcalendar.com
STATUS:CONFIRMED
TRANSP:TRANSPARENT
END:VEVENT
BEGIN:VEVENT
DTSTART;VALUE=DATE:20251104
DTEND;VALUE=DATE:20251105
SUMMARY:Election Day; students do not attend school — No School
DESCRIPTION:NYC Public Schools (DOE) school holiday
UID:20251104-ElectionDaystudentsdonotattendschool-nyc@nyschoolcalendar.com
STATUS:CONFIRMED
TRANSP:TRANSPARENT
END:VEVENT
BEGIN:VEVENT
DTSTART;VALUE=DATE:20251111
DTEND;VALUE=DATE:20251112
SUMMARY:Veterans Day, schools closed — No School
DESCRIPTION:NYC Public Schools (DOE) school holiday
UID:20251111-VeteransDayschoolsclosed-nyc@nyschoolcalendar.com
STATUS:CONFIRMED
TRANSP:TRANSPARENT
END:VEVENT
BEGIN:VEVENT
DTSTART;VALUE=DATE:20251127
DTEND;VALUE=DATE:20251128
SUMMARY:Thanksgiving — No School
DESCRIPTION:NYC Public Schools (DOE) school holiday
UID:20251127-Thanksgiving-nyc@nyschoolcalendar.com
STATUS:CONFIRMED
TRANSP:TRANSPARENT
END:VEVENT
BEGIN:VEVENT
DTSTART;VALUE=DATE:20251128
DTEND;VALUE=DATE:20251129
SUMMARY:Day after Thanksgiving — No School
DESCRIPTION:NYC Public Schools (DOE) school holiday
UID:20251128-DayafterThanksgiving-nyc@nyschoolcalendar.com
STATUS:CONFIRMED
TRANSP:TRANSPARENT
END:VEVENT
BEGIN:VEVENT
DTSTART;VALUE=DATE:20260119
DTEND;VALUE=DATE:20260120
SUMMARY:Rev. Dr. Martin Luther King Jr. Day, schools closed — No School
DESCRIPTION:NYC Public Schools (DOE) school holiday
UID:20260119-RevDrMartinLutherKingJrDayschoolsclosed-nyc@nyschoolcalendar.com
STATUS:CONFIRMED
TRANSP:TRANSPARENT
END:VEVENT
BEGIN:VEVENT
DTSTART;VALUE=DATE:20260217
DTEND;VALUE=DATE:20260218
SUMMARY:Lunar New Year — No School
DESCRIPTION:NYC Public Schools (DOE) school holiday
UID:20260217-LunarNewYear-nyc@nyschoolcalendar.com
STATUS:CONFIRMED
TRANSP:TRANSPARENT
END:VEVENT
BEGIN:VEVENT
DTSTART;VALUE=DATE:20260320
DTEND;VALUE=DATE:20260321
SUMMARY:Eid al-Fitr, schools closed — No School
DESCRIPTION:NYC Public Schools (DOE) school holiday
UID:20260320-EidalFitrschoolsclosed-nyc@nyschoolcalendar.com
STATUS:CONFIRMED
TRANSP:TRANSPARENT
END:VEVENT
BEGIN:VEVENT
DTSTART;VALUE=DATE:20260525
DTEND;VALUE=DATE:20260526
SUMMARY:Memorial Day, schools closed — No School
DESCRIPTION:NYC Public Schools (DOE) school holiday
UID:20260525-MemorialDayschoolsclosed-nyc@nyschoolcalendar.com
STATUS:CONFIRMED
TRANSP:TRANSPARENT
END:VEVENT
BEGIN:VEVENT
DTSTART;VALUE=DATE:20260527
DTEND;VALUE=DATE:20260528
SUMMARY:Eid al-Adha; schools closed — No School
DESCRIPTION:NYC Public Schools (DOE) school holiday
UID:20260527-EidalAdhaschoolsclosed-nyc@nyschoolcalendar.com
STATUS:CONFIRMED
TRANSP:TRANSPARENT
END:VEVENT
BEGIN:VEVENT
DTSTART;VALUE=DATE:20260604
DTEND;VALUE=DATE:20260605
SUMMARY:Anniversary Day / Chancellor's Conference Day for staff development; students do not attend school — No School
DESCRIPTION:NYC Public Schools (DOE) school holiday
UID:20260604-AnniversaryDayChancellorsConferenceDayforstaffdevelopmentstudentsdonotattendschool-nyc@nyschoolcalendar.com
STATUS:CONFIRMED
TRANSP:TRANSPARENT
END:VEVENT
BEGIN:VEVENT
DTSTART;VALUE=DATE:20260619
DTEND;VALUE=DATE:20260620
SUMMARY:Juneteenth, schools closed — No School
DESCRIPTION:NYC Public Schools (DOE) school holiday
UID:20260619-Juneteenthschoolsclosed-nyc@nyschoolcalendar.com
STATUS:CONFIRMED
TRANSP:TRANSPARENT
END:VEVENT
BEGIN:VEVENT
DTSTART;VALUE=DATE:20251224
DTEND;VALUE=DATE:20260103
SUMMARY:Winter Recess — No School
DESCRIPTION:NYC Public Schools (DOE) Winter Recess
UID:20251224-WinterRecess-nyc@nyschoolcalendar.com
STATUS:CONFIRMED
TRANSP:TRANSPARENT
END:VEVENT
BEGIN:VEVENT
DTSTART;VALUE=DATE:20260216
DTEND;VALUE=DATE:20260221
SUMMARY:Midwinter Recess — No School
DESCRIPTION:NYC Public Schools (DOE) Midwinter Recess
UID:20260216-MidwinterRecess-nyc@nyschoolcalendar.com
STATUS:CONFIRMED
TRANSP:TRANSPARENT
END:VEVENT
BEGIN:VEVENT
DTSTART;VALUE=DATE:20260402
DTEND;VALUE=DATE:20260411
SUMMARY:Spring Recess — No School
DESCRIPTION:NYC Public Schools (DOE) Spring Recess
UID:20260402-SpringRecess-nyc@nyschoolcalendar.com
STATUS:CONFIRMED
TRANSP:TRANSPARENT
END:VEVENT
BEGIN:VEVENT
DTSTART;VALUE=DATE:20260120
DTEND;VALUE=DATE:20260124
SUMMARY:Regents Exams (January) (NYC)
DESCRIPTION:NYC Public Schools (DOE) — Regents Exams (January)
UID:20260120-RegentsExamsJanuary-nyc@nyschoolcalendar.com
STATUS:CONFIRMED
TRANSP:TRANSPARENT
END:VEVENT
BEGIN:VEVENT
DTSTART;VALUE=DATE:20260617
DTEND;VALUE=DATE:20260627
SUMMARY:Regents Exams (June) (NYC)
DESCRIPTION:NYC Public Schools (DOE) — Regents Exams (June)
UID:20260617-RegentsExamsJune-nyc@nyschoolcalendar.com
STATUS:CONFIRMED
TRANSP:TRANSPARENT
END:VEVENT
END:VCALENDAR
