BEGIN:VCALENDAR
VERSION:2.0
PRODID:-//NY School Calendar//Rochester 2025-2026//EN
CALSCALE:GREGORIAN
METHOD:PUBLISH
X-WR-CALNAME:Rochester School Calendar 2025-2026
X-WR-TIMEZONE:America/New_York
BEGIN:VEVENT
DTSTART;VALUE=DATE:20250904
DTEND;VALUE=DATE:20250905
SUMMARY:First Day of School (Rochester)
DESCRIPTION:Rochester City School District 2025-2026 school year begins
UID:20250904-FirstDay-rochester@nyschoolcalendar.com
STATUS:CONFIRMED
TRANSP:TRANSPARENT
END:VEVENT
BEGIN:VEVENT
DTSTART;VALUE=DATE:20260625
DTEND;VALUE=DATE:20260626
SUMMARY:Last Day of School (Rochester)
DESCRIPTION:Rochester City School District 2025-2026 school year ends
UID:20260625-LastDay-rochester@nyschoolcalendar.com
STATUS:CONFIRMED
TRANSP:TRANSPARENT
END:VEVENT
BEGIN:VEVENT
DTSTART;VALUE=DATE:20250901
DTEND;VALUE=DATE:20250902
SUMMARY:Labor Day (All facilities closed) — No School
DESCRIPTION:Rochester City School District school holiday
UID:20250901-LaborDayAllfacilitiesclosed-rochester@nyschoolcalendar.com
STATUS:CONFIRMED
TRANSP:TRANSPARENT
END:VEVENT
BEGIN:VEVENT
DTSTART;VALUE=DATE:20250902
DTEND;VALUE=DATE:20250903
SUMMARY:Superintendent's Conference Day (No school for students) begins — No School
DESCRIPTION:Rochester City School District school holiday
UID:20250902-SuperintendentsConferenceDayNoschoolforstudentsbegins-rochester@nyschoolcalendar.com
STATUS:CONFIRMED
TRANSP:TRANSPARENT
END:VEVENT
BEGIN:VEVENT
DTSTART;VALUE=DATE:20250903
DTEND;VALUE=DATE:20250904
SUMMARY:Superintendent's Conference Day (No school for students) — No School
DESCRIPTION:Rochester City School District school holiday
UID:20250903-SuperintendentsConferenceDayNoschoolforstudents-rochester@nyschoolcalendar.com
STATUS:CONFIRMED
TRANSP:TRANSPARENT
END:VEVENT
BEGIN:VEVENT
DTSTART;VALUE=DATE:20251013
DTEND;VALUE=DATE:20251014
SUMMARY:Indigenous Peoples' Day (All facilities closed) — No School
DESCRIPTION:Rochester City School District school holiday
UID:20251013-IndigenousPeoplesDayAllfacilitiesclosed-rochester@nyschoolcalendar.com
STATUS:CONFIRMED
TRANSP:TRANSPARENT
END:VEVENT
BEGIN:VEVENT
DTSTART;VALUE=DATE:20251104
DTEND;VALUE=DATE:20251105
SUMMARY:Superintendent's Conference Day / Election Day (No school for students) — No School
DESCRIPTION:Rochester City School District school holiday
UID:20251104-SuperintendentsConferenceDayElectionDayNoschoolforstudents-rochester@nyschoolcalendar.com
STATUS:CONFIRMED
TRANSP:TRANSPARENT
END:VEVENT
BEGIN:VEVENT
DTSTART;VALUE=DATE:20251111
DTEND;VALUE=DATE:20251112
SUMMARY:Veterans Day (All facilities closed) — No School
DESCRIPTION:Rochester City School District school holiday
UID:20251111-VeteransDayAllfacilitiesclosed-rochester@nyschoolcalendar.com
STATUS:CONFIRMED
TRANSP:TRANSPARENT
END:VEVENT
BEGIN:VEVENT
DTSTART;VALUE=DATE:20251127
DTEND;VALUE=DATE:20251128
SUMMARY:Thanksgiving — No School
DESCRIPTION:Rochester City School District school holiday
UID:20251127-Thanksgiving-rochester@nyschoolcalendar.com
STATUS:CONFIRMED
TRANSP:TRANSPARENT
END:VEVENT
BEGIN:VEVENT
DTSTART;VALUE=DATE:20251128
DTEND;VALUE=DATE:20251129
SUMMARY:Day after Thanksgiving — No School
DESCRIPTION:Rochester City School District school holiday
UID:20251128-DayafterThanksgiving-rochester@nyschoolcalendar.com
STATUS:CONFIRMED
TRANSP:TRANSPARENT
END:VEVENT
BEGIN:VEVENT
DTSTART;VALUE=DATE:20260119
DTEND;VALUE=DATE:20260120
SUMMARY:Dr. Martin Luther King Jr. Day (All facilities closed) — No School
DESCRIPTION:Rochester City School District school holiday
UID:20260119-DrMartinLutherKingJrDayAllfacilitiesclosed-rochester@nyschoolcalendar.com
STATUS:CONFIRMED
TRANSP:TRANSPARENT
END:VEVENT
BEGIN:VEVENT
DTSTART;VALUE=DATE:20260320
DTEND;VALUE=DATE:20260321
SUMMARY:Eid al-Fitr Recess — No School
DESCRIPTION:Rochester City School District school holiday
UID:20260320-EidalFitrRecess-rochester@nyschoolcalendar.com
STATUS:CONFIRMED
TRANSP:TRANSPARENT
END:VEVENT
BEGIN:VEVENT
DTSTART;VALUE=DATE:20260417
DTEND;VALUE=DATE:20260418
SUMMARY:Superintendent's Conference Day (No school for students) — No School
DESCRIPTION:Rochester City School District school holiday
UID:20260417-SuperintendentsConferenceDayNoschoolforstudents-rochester@nyschoolcalendar.com
STATUS:CONFIRMED
TRANSP:TRANSPARENT
END:VEVENT
BEGIN:VEVENT
DTSTART;VALUE=DATE:20260403
DTEND;VALUE=DATE:20260404
SUMMARY:Good Friday — No School
DESCRIPTION:Rochester City School District school holiday
UID:20260403-GoodFriday-rochester@nyschoolcalendar.com
STATUS:CONFIRMED
TRANSP:TRANSPARENT
END:VEVENT
BEGIN:VEVENT
DTSTART;VALUE=DATE:20260525
DTEND;VALUE=DATE:20260526
SUMMARY:Memorial Day (All facilities closed) — No School
DESCRIPTION:Rochester City School District school holiday
UID:20260525-MemorialDayAllfacilitiesclosed-rochester@nyschoolcalendar.com
STATUS:CONFIRMED
TRANSP:TRANSPARENT
END:VEVENT
BEGIN:VEVENT
DTSTART;VALUE=DATE:20260626
DTEND;VALUE=DATE:20260627
SUMMARY:Regents Rating Day / Last Day for 10-Month Staff — No School
DESCRIPTION:Rochester City School District school holiday
UID:20260626-RegentsRatingDayLastDayfor10MonthStaff-rochester@nyschoolcalendar.com
STATUS:CONFIRMED
TRANSP:TRANSPARENT
END:VEVENT
BEGIN:VEVENT
DTSTART;VALUE=DATE:20251222
DTEND;VALUE=DATE:20260103
SUMMARY:Winter Recess — No School
DESCRIPTION:Rochester City School District Winter Recess
UID:20251222-WinterRecess-rochester@nyschoolcalendar.com
STATUS:CONFIRMED
TRANSP:TRANSPARENT
END:VEVENT
BEGIN:VEVENT
DTSTART;VALUE=DATE:20260216
DTEND;VALUE=DATE:20260221
SUMMARY:Mid-Winter Recess — No School
DESCRIPTION:Rochester City School District Mid-Winter Recess
UID:20260216-MidWinterRecess-rochester@nyschoolcalendar.com
STATUS:CONFIRMED
TRANSP:TRANSPARENT
END:VEVENT
BEGIN:VEVENT
DTSTART;VALUE=DATE:20260330
DTEND;VALUE=DATE:20260404
SUMMARY:Spring Recess — No School
DESCRIPTION:Rochester City School District Spring Recess
UID:20260330-SpringRecess-rochester@nyschoolcalendar.com
STATUS:CONFIRMED
TRANSP:TRANSPARENT
END:VEVENT
BEGIN:VEVENT
DTSTART;VALUE=DATE:20270126
DTEND;VALUE=DATE:20270130
SUMMARY:Regents Exams (January) (Rochester)
DESCRIPTION:Rochester City School District — Regents Exams (January)
UID:20270126-RegentsExamsJanuary-rochester@nyschoolcalendar.com
STATUS:CONFIRMED
TRANSP:TRANSPARENT
END:VEVENT
BEGIN:VEVENT
DTSTART;VALUE=DATE:20270615
DTEND;VALUE=DATE:20270626
SUMMARY:Regents Exams (June) (Rochester)
DESCRIPTION:Rochester City School District — Regents Exams (June)
UID:20270615-RegentsExamsJune-rochester@nyschoolcalendar.com
STATUS:CONFIRMED
TRANSP:TRANSPARENT
END:VEVENT
END:VCALENDAR
