BEGIN:VCALENDAR
VERSION:2.0
PRODID:-//NY School Calendar//Rochester 2026-2027//EN
CALSCALE:GREGORIAN
METHOD:PUBLISH
X-WR-CALNAME:Rochester School Calendar 2026-2027
X-WR-TIMEZONE:America/New_York
BEGIN:VEVENT
DTSTART;VALUE=DATE:20260908
DTEND;VALUE=DATE:20260909
SUMMARY:First Day of School (Rochester)
DESCRIPTION:Rochester City School District 2026-2027 school year begins
UID:20260908-FirstDay-rochester@nyschoolcalendar.com
STATUS:CONFIRMED
TRANSP:TRANSPARENT
END:VEVENT
BEGIN:VEVENT
DTSTART;VALUE=DATE:20270624
DTEND;VALUE=DATE:20270625
SUMMARY:Last Day of School (Rochester)
DESCRIPTION:Rochester City School District 2026-2027 school year ends
UID:20270624-LastDay-rochester@nyschoolcalendar.com
STATUS:CONFIRMED
TRANSP:TRANSPARENT
END:VEVENT
BEGIN:VEVENT
DTSTART;VALUE=DATE:20260901
DTEND;VALUE=DATE:20260902
SUMMARY:Superintendent's Conference Day (No school for students) — No School
DESCRIPTION:Rochester City School District school holiday
UID:20260901-SuperintendentsConferenceDayNoschoolforstudents-rochester@nyschoolcalendar.com
STATUS:CONFIRMED
TRANSP:TRANSPARENT
END:VEVENT
BEGIN:VEVENT
DTSTART;VALUE=DATE:20260902
DTEND;VALUE=DATE:20260903
SUMMARY:Superintendent's Conference Day (No school for students) — No School
DESCRIPTION:Rochester City School District school holiday
UID:20260902-SuperintendentsConferenceDayNoschoolforstudents-rochester@nyschoolcalendar.com
STATUS:CONFIRMED
TRANSP:TRANSPARENT
END:VEVENT
BEGIN:VEVENT
DTSTART;VALUE=DATE:20260907
DTEND;VALUE=DATE:20260908
SUMMARY:Labor Day (All facilities closed) — No School
DESCRIPTION:Rochester City School District school holiday
UID:20260907-LaborDayAllfacilitiesclosed-rochester@nyschoolcalendar.com
STATUS:CONFIRMED
TRANSP:TRANSPARENT
END:VEVENT
BEGIN:VEVENT
DTSTART;VALUE=DATE:20261012
DTEND;VALUE=DATE:20261013
SUMMARY:Indigenous Peoples' Day (All facilities closed) — No School
DESCRIPTION:Rochester City School District school holiday
UID:20261012-IndigenousPeoplesDayAllfacilitiesclosed-rochester@nyschoolcalendar.com
STATUS:CONFIRMED
TRANSP:TRANSPARENT
END:VEVENT
BEGIN:VEVENT
DTSTART;VALUE=DATE:20261103
DTEND;VALUE=DATE:20261104
SUMMARY:Superintendent's Conference Day / Election Day (No school for students) — No School
DESCRIPTION:Rochester City School District school holiday
UID:20261103-SuperintendentsConferenceDayElectionDayNoschoolforstudents-rochester@nyschoolcalendar.com
STATUS:CONFIRMED
TRANSP:TRANSPARENT
END:VEVENT
BEGIN:VEVENT
DTSTART;VALUE=DATE:20261111
DTEND;VALUE=DATE:20261112
SUMMARY:Veterans Day (All facilities closed) — No School
DESCRIPTION:Rochester City School District school holiday
UID:20261111-VeteransDayAllfacilitiesclosed-rochester@nyschoolcalendar.com
STATUS:CONFIRMED
TRANSP:TRANSPARENT
END:VEVENT
BEGIN:VEVENT
DTSTART;VALUE=DATE:20261125
DTEND;VALUE=DATE:20261126
SUMMARY:Thanksgiving Recess (Wed) — No School
DESCRIPTION:Rochester City School District school holiday
UID:20261125-ThanksgivingRecessWed-rochester@nyschoolcalendar.com
STATUS:CONFIRMED
TRANSP:TRANSPARENT
END:VEVENT
BEGIN:VEVENT
DTSTART;VALUE=DATE:20261126
DTEND;VALUE=DATE:20261127
SUMMARY:Thanksgiving — No School
DESCRIPTION:Rochester City School District school holiday
UID:20261126-Thanksgiving-rochester@nyschoolcalendar.com
STATUS:CONFIRMED
TRANSP:TRANSPARENT
END:VEVENT
BEGIN:VEVENT
DTSTART;VALUE=DATE:20261127
DTEND;VALUE=DATE:20261128
SUMMARY:Day after Thanksgiving — No School
DESCRIPTION:Rochester City School District school holiday
UID:20261127-DayafterThanksgiving-rochester@nyschoolcalendar.com
STATUS:CONFIRMED
TRANSP:TRANSPARENT
END:VEVENT
BEGIN:VEVENT
DTSTART;VALUE=DATE:20270118
DTEND;VALUE=DATE:20270119
SUMMARY:Dr. Martin Luther King, Jr. Day (All facilities closed) — No School
DESCRIPTION:Rochester City School District school holiday
UID:20270118-DrMartinLutherKingJrDayAllfacilitiesclosed-rochester@nyschoolcalendar.com
STATUS:CONFIRMED
TRANSP:TRANSPARENT
END:VEVENT
BEGIN:VEVENT
DTSTART;VALUE=DATE:20270215
DTEND;VALUE=DATE:20270216
SUMMARY:Presidents' Day (All facilities closed) — No School
DESCRIPTION:Rochester City School District school holiday
UID:20270215-PresidentsDayAllfacilitiesclosed-rochester@nyschoolcalendar.com
STATUS:CONFIRMED
TRANSP:TRANSPARENT
END:VEVENT
BEGIN:VEVENT
DTSTART;VALUE=DATE:20270310
DTEND;VALUE=DATE:20270311
SUMMARY:Superintendent's Conference Day & Eid al-Fitr (No school for students) — No School
DESCRIPTION:Rochester City School District school holiday
UID:20270310-SuperintendentsConferenceDayEidalFitrNoschoolforstudents-rochester@nyschoolcalendar.com
STATUS:CONFIRMED
TRANSP:TRANSPARENT
END:VEVENT
BEGIN:VEVENT
DTSTART;VALUE=DATE:20270326
DTEND;VALUE=DATE:20270327
SUMMARY:Good Friday — No School
DESCRIPTION:Rochester City School District school holiday
UID:20270326-GoodFriday-rochester@nyschoolcalendar.com
STATUS:CONFIRMED
TRANSP:TRANSPARENT
END:VEVENT
BEGIN:VEVENT
DTSTART;VALUE=DATE:20270531
DTEND;VALUE=DATE:20270601
SUMMARY:Memorial Day (All facilities closed) — No School
DESCRIPTION:Rochester City School District school holiday
UID:20270531-MemorialDayAllfacilitiesclosed-rochester@nyschoolcalendar.com
STATUS:CONFIRMED
TRANSP:TRANSPARENT
END:VEVENT
BEGIN:VEVENT
DTSTART;VALUE=DATE:20270618
DTEND;VALUE=DATE:20270619
SUMMARY:Juneteenth Observed (All facilities closed) — No School
DESCRIPTION:Rochester City School District school holiday
UID:20270618-JuneteenthObservedAllfacilitiesclosed-rochester@nyschoolcalendar.com
STATUS:CONFIRMED
TRANSP:TRANSPARENT
END:VEVENT
BEGIN:VEVENT
DTSTART;VALUE=DATE:20270625
DTEND;VALUE=DATE:20270626
SUMMARY:Regents Rating Day / Last Day for 10-Month Staff — No School
DESCRIPTION:Rochester City School District school holiday
UID:20270625-RegentsRatingDayLastDayfor10MonthStaff-rochester@nyschoolcalendar.com
STATUS:CONFIRMED
TRANSP:TRANSPARENT
END:VEVENT
BEGIN:VEVENT
DTSTART;VALUE=DATE:20261223
DTEND;VALUE=DATE:20270102
SUMMARY:Winter Recess — No School
DESCRIPTION:Rochester City School District Winter Recess
UID:20261223-WinterRecess-rochester@nyschoolcalendar.com
STATUS:CONFIRMED
TRANSP:TRANSPARENT
END:VEVENT
BEGIN:VEVENT
DTSTART;VALUE=DATE:20270216
DTEND;VALUE=DATE:20270220
SUMMARY:Mid-Winter Recess — No School
DESCRIPTION:Rochester City School District Mid-Winter Recess
UID:20270216-MidWinterRecess-rochester@nyschoolcalendar.com
STATUS:CONFIRMED
TRANSP:TRANSPARENT
END:VEVENT
BEGIN:VEVENT
DTSTART;VALUE=DATE:20270322
DTEND;VALUE=DATE:20270327
SUMMARY:Spring Recess — No School
DESCRIPTION:Rochester City School District Spring Recess
UID:20270322-SpringRecess-rochester@nyschoolcalendar.com
STATUS:CONFIRMED
TRANSP:TRANSPARENT
END:VEVENT
BEGIN:VEVENT
DTSTART;VALUE=DATE:20270126
DTEND;VALUE=DATE:20270130
SUMMARY:Regents Exams (January) (Rochester)
DESCRIPTION:Rochester City School District — Regents Exams (January)
UID:20270126-RegentsExamsJanuary-rochester@nyschoolcalendar.com
STATUS:CONFIRMED
TRANSP:TRANSPARENT
END:VEVENT
BEGIN:VEVENT
DTSTART;VALUE=DATE:20270615
DTEND;VALUE=DATE:20270625
SUMMARY:Regents Exams (June) (Rochester)
DESCRIPTION:Rochester City School District — Regents Exams (June)
UID:20270615-RegentsExamsJune-rochester@nyschoolcalendar.com
STATUS:CONFIRMED
TRANSP:TRANSPARENT
END:VEVENT
END:VCALENDAR
