BEGIN:VCALENDAR
VERSION:2.0
PRODID:-//NY School Calendar//Yonkers 2025-2026//EN
CALSCALE:GREGORIAN
METHOD:PUBLISH
X-WR-CALNAME:Yonkers School Calendar 2025-2026
X-WR-TIMEZONE:America/New_York
BEGIN:VEVENT
DTSTART;VALUE=DATE:20250903
DTEND;VALUE=DATE:20250904
SUMMARY:First Day of School (Yonkers)
DESCRIPTION:Yonkers Public Schools 2025-2026 school year begins
UID:20250903-FirstDay-yonkers@nyschoolcalendar.com
STATUS:CONFIRMED
TRANSP:TRANSPARENT
END:VEVENT
BEGIN:VEVENT
DTSTART;VALUE=DATE:20260626
DTEND;VALUE=DATE:20260627
SUMMARY:Last Day of School (Yonkers)
DESCRIPTION:Yonkers Public Schools 2025-2026 school year ends
UID:20260626-LastDay-yonkers@nyschoolcalendar.com
STATUS:CONFIRMED
TRANSP:TRANSPARENT
END:VEVENT
BEGIN:VEVENT
DTSTART;VALUE=DATE:20250902
DTEND;VALUE=DATE:20250903
SUMMARY:Superintendent's Conference Day / Professional Development — No School
DESCRIPTION:Yonkers Public Schools school holiday
UID:20250902-SuperintendentsConferenceDayProfessionalDevelopment-yonkers@nyschoolcalendar.com
STATUS:CONFIRMED
TRANSP:TRANSPARENT
END:VEVENT
BEGIN:VEVENT
DTSTART;VALUE=DATE:20250901
DTEND;VALUE=DATE:20250902
SUMMARY:Labor Day — No School
DESCRIPTION:Yonkers Public Schools school holiday
UID:20250901-LaborDay-yonkers@nyschoolcalendar.com
STATUS:CONFIRMED
TRANSP:TRANSPARENT
END:VEVENT
BEGIN:VEVENT
DTSTART;VALUE=DATE:20250923
DTEND;VALUE=DATE:20250924
SUMMARY:Rosh Hashanah — No School
DESCRIPTION:Yonkers Public Schools school holiday
UID:20250923-RoshHashanah-yonkers@nyschoolcalendar.com
STATUS:CONFIRMED
TRANSP:TRANSPARENT
END:VEVENT
BEGIN:VEVENT
DTSTART;VALUE=DATE:20250924
DTEND;VALUE=DATE:20250925
SUMMARY:Rosh Hashanah — No School
DESCRIPTION:Yonkers Public Schools school holiday
UID:20250924-RoshHashanah-yonkers@nyschoolcalendar.com
STATUS:CONFIRMED
TRANSP:TRANSPARENT
END:VEVENT
BEGIN:VEVENT
DTSTART;VALUE=DATE:20251002
DTEND;VALUE=DATE:20251003
SUMMARY:Yom Kippur — No School
DESCRIPTION:Yonkers Public Schools school holiday
UID:20251002-YomKippur-yonkers@nyschoolcalendar.com
STATUS:CONFIRMED
TRANSP:TRANSPARENT
END:VEVENT
BEGIN:VEVENT
DTSTART;VALUE=DATE:20251020
DTEND;VALUE=DATE:20251021
SUMMARY:Superintendent's Conference Day / Professional Development for All Teachers — No School
DESCRIPTION:Yonkers Public Schools school holiday
UID:20251020-SuperintendentsConferenceDayProfessionalDevelopmentforAllTeachers-yonkers@nyschoolcalendar.com
STATUS:CONFIRMED
TRANSP:TRANSPARENT
END:VEVENT
BEGIN:VEVENT
DTSTART;VALUE=DATE:20251104
DTEND;VALUE=DATE:20251105
SUMMARY:Election Day / Superintendent's Conference Day / Professional Development for All Staff — No School
DESCRIPTION:Yonkers Public Schools school holiday
UID:20251104-ElectionDaySuperintendentsConferenceDayProfessionalDevelopmentforAllStaff-yonkers@nyschoolcalendar.com
STATUS:CONFIRMED
TRANSP:TRANSPARENT
END:VEVENT
BEGIN:VEVENT
DTSTART;VALUE=DATE:20251111
DTEND;VALUE=DATE:20251112
SUMMARY:Veterans' Day — No School
DESCRIPTION:Yonkers Public Schools school holiday
UID:20251111-VeteransDay-yonkers@nyschoolcalendar.com
STATUS:CONFIRMED
TRANSP:TRANSPARENT
END:VEVENT
BEGIN:VEVENT
DTSTART;VALUE=DATE:20251127
DTEND;VALUE=DATE:20251128
SUMMARY:Thanksgiving — No School
DESCRIPTION:Yonkers Public Schools school holiday
UID:20251127-Thanksgiving-yonkers@nyschoolcalendar.com
STATUS:CONFIRMED
TRANSP:TRANSPARENT
END:VEVENT
BEGIN:VEVENT
DTSTART;VALUE=DATE:20251128
DTEND;VALUE=DATE:20251129
SUMMARY:Day after Thanksgiving — No School
DESCRIPTION:Yonkers Public Schools school holiday
UID:20251128-DayafterThanksgiving-yonkers@nyschoolcalendar.com
STATUS:CONFIRMED
TRANSP:TRANSPARENT
END:VEVENT
BEGIN:VEVENT
DTSTART;VALUE=DATE:20251225
DTEND;VALUE=DATE:20251226
SUMMARY:Christmas Day — No School
DESCRIPTION:Yonkers Public Schools school holiday
UID:20251225-ChristmasDay-yonkers@nyschoolcalendar.com
STATUS:CONFIRMED
TRANSP:TRANSPARENT
END:VEVENT
BEGIN:VEVENT
DTSTART;VALUE=DATE:20260101
DTEND;VALUE=DATE:20260102
SUMMARY:New Year's Day — No School
DESCRIPTION:Yonkers Public Schools school holiday
UID:20260101-NewYearsDay-yonkers@nyschoolcalendar.com
STATUS:CONFIRMED
TRANSP:TRANSPARENT
END:VEVENT
BEGIN:VEVENT
DTSTART;VALUE=DATE:20260119
DTEND;VALUE=DATE:20260120
SUMMARY:MLK Day — No School
DESCRIPTION:Yonkers Public Schools school holiday
UID:20260119-MLKDay-yonkers@nyschoolcalendar.com
STATUS:CONFIRMED
TRANSP:TRANSPARENT
END:VEVENT
BEGIN:VEVENT
DTSTART;VALUE=DATE:20260320
DTEND;VALUE=DATE:20260321
SUMMARY:Eid al-Fitr — No School
DESCRIPTION:Yonkers Public Schools school holiday
UID:20260320-EidalFitr-yonkers@nyschoolcalendar.com
STATUS:CONFIRMED
TRANSP:TRANSPARENT
END:VEVENT
BEGIN:VEVENT
DTSTART;VALUE=DATE:20260525
DTEND;VALUE=DATE:20260526
SUMMARY:Memorial Day — No School
DESCRIPTION:Yonkers Public Schools school holiday
UID:20260525-MemorialDay-yonkers@nyschoolcalendar.com
STATUS:CONFIRMED
TRANSP:TRANSPARENT
END:VEVENT
BEGIN:VEVENT
DTSTART;VALUE=DATE:20260619
DTEND;VALUE=DATE:20260620
SUMMARY:Juneteenth — No School
DESCRIPTION:Yonkers Public Schools school holiday
UID:20260619-Juneteenth-yonkers@nyschoolcalendar.com
STATUS:CONFIRMED
TRANSP:TRANSPARENT
END:VEVENT
BEGIN:VEVENT
DTSTART;VALUE=DATE:20251224
DTEND;VALUE=DATE:20260103
SUMMARY:Winter Recess — No School
DESCRIPTION:Yonkers Public Schools Winter Recess
UID:20251224-WinterRecess-yonkers@nyschoolcalendar.com
STATUS:CONFIRMED
TRANSP:TRANSPARENT
END:VEVENT
BEGIN:VEVENT
DTSTART;VALUE=DATE:20260216
DTEND;VALUE=DATE:20260221
SUMMARY:Mid-Winter Recess — No School
DESCRIPTION:Yonkers Public Schools Mid-Winter Recess
UID:20260216-MidWinterRecess-yonkers@nyschoolcalendar.com
STATUS:CONFIRMED
TRANSP:TRANSPARENT
END:VEVENT
BEGIN:VEVENT
DTSTART;VALUE=DATE:20260330
DTEND;VALUE=DATE:20260404
SUMMARY:Spring Recess — No School
DESCRIPTION:Yonkers Public Schools Spring Recess
UID:20260330-SpringRecess-yonkers@nyschoolcalendar.com
STATUS:CONFIRMED
TRANSP:TRANSPARENT
END:VEVENT
BEGIN:VEVENT
DTSTART;VALUE=DATE:20270126
DTEND;VALUE=DATE:20270130
SUMMARY:Regents Exams (January) (Yonkers)
DESCRIPTION:Yonkers Public Schools — Regents Exams (January)
UID:20270126-RegentsExamsJanuary-yonkers@nyschoolcalendar.com
STATUS:CONFIRMED
TRANSP:TRANSPARENT
END:VEVENT
BEGIN:VEVENT
DTSTART;VALUE=DATE:20270615
DTEND;VALUE=DATE:20270626
SUMMARY:Regents Exams (June) (Yonkers)
DESCRIPTION:Yonkers Public Schools — Regents Exams (June)
UID:20270615-RegentsExamsJune-yonkers@nyschoolcalendar.com
STATUS:CONFIRMED
TRANSP:TRANSPARENT
END:VEVENT
END:VCALENDAR
