BEGIN:VCALENDAR
VERSION:2.0
PRODID:-//NY School Calendar//Yonkers 2026-2027//EN
CALSCALE:GREGORIAN
METHOD:PUBLISH
X-WR-CALNAME:Yonkers School Calendar 2026-2027
X-WR-TIMEZONE:America/New_York
BEGIN:VEVENT
DTSTART;VALUE=DATE:20260903
DTEND;VALUE=DATE:20260904
SUMMARY:First Day of School (Yonkers)
DESCRIPTION:Yonkers Public Schools 2026-2027 school year begins
UID:20260903-FirstDay-yonkers@nyschoolcalendar.com
STATUS:CONFIRMED
TRANSP:TRANSPARENT
END:VEVENT
BEGIN:VEVENT
DTSTART;VALUE=DATE:20270625
DTEND;VALUE=DATE:20270626
SUMMARY:Last Day of School (Yonkers)
DESCRIPTION:Yonkers Public Schools 2026-2027 school year ends
UID:20270625-LastDay-yonkers@nyschoolcalendar.com
STATUS:CONFIRMED
TRANSP:TRANSPARENT
END:VEVENT
BEGIN:VEVENT
DTSTART;VALUE=DATE:20260901
DTEND;VALUE=DATE:20260902
SUMMARY:Superintendent's Conference Day / Professional Development — No School
DESCRIPTION:Yonkers Public Schools school holiday
UID:20260901-SuperintendentsConferenceDayProfessionalDevelopment-yonkers@nyschoolcalendar.com
STATUS:CONFIRMED
TRANSP:TRANSPARENT
END:VEVENT
BEGIN:VEVENT
DTSTART;VALUE=DATE:20260902
DTEND;VALUE=DATE:20260903
SUMMARY:Superintendent's Conference Day / Professional Development — No School
DESCRIPTION:Yonkers Public Schools school holiday
UID:20260902-SuperintendentsConferenceDayProfessionalDevelopment-yonkers@nyschoolcalendar.com
STATUS:CONFIRMED
TRANSP:TRANSPARENT
END:VEVENT
BEGIN:VEVENT
DTSTART;VALUE=DATE:20260907
DTEND;VALUE=DATE:20260908
SUMMARY:Labor Day — No School
DESCRIPTION:Yonkers Public Schools school holiday
UID:20260907-LaborDay-yonkers@nyschoolcalendar.com
STATUS:CONFIRMED
TRANSP:TRANSPARENT
END:VEVENT
BEGIN:VEVENT
DTSTART;VALUE=DATE:20260921
DTEND;VALUE=DATE:20260922
SUMMARY:Yom Kippur — No School
DESCRIPTION:Yonkers Public Schools school holiday
UID:20260921-YomKippur-yonkers@nyschoolcalendar.com
STATUS:CONFIRMED
TRANSP:TRANSPARENT
END:VEVENT
BEGIN:VEVENT
DTSTART;VALUE=DATE:20261012
DTEND;VALUE=DATE:20261013
SUMMARY:Columbus / Indigenous Peoples' Day — No School
DESCRIPTION:Yonkers Public Schools school holiday
UID:20261012-ColumbusIndigenousPeoplesDay-yonkers@nyschoolcalendar.com
STATUS:CONFIRMED
TRANSP:TRANSPARENT
END:VEVENT
BEGIN:VEVENT
DTSTART;VALUE=DATE:20261103
DTEND;VALUE=DATE:20261104
SUMMARY:Election Day / Superintendent's Conference Day — No School
DESCRIPTION:Yonkers Public Schools school holiday
UID:20261103-ElectionDaySuperintendentsConferenceDay-yonkers@nyschoolcalendar.com
STATUS:CONFIRMED
TRANSP:TRANSPARENT
END:VEVENT
BEGIN:VEVENT
DTSTART;VALUE=DATE:20261111
DTEND;VALUE=DATE:20261112
SUMMARY:Veterans Day — No School
DESCRIPTION:Yonkers Public Schools school holiday
UID:20261111-VeteransDay-yonkers@nyschoolcalendar.com
STATUS:CONFIRMED
TRANSP:TRANSPARENT
END:VEVENT
BEGIN:VEVENT
DTSTART;VALUE=DATE:20261126
DTEND;VALUE=DATE:20261127
SUMMARY:Thanksgiving — No School
DESCRIPTION:Yonkers Public Schools school holiday
UID:20261126-Thanksgiving-yonkers@nyschoolcalendar.com
STATUS:CONFIRMED
TRANSP:TRANSPARENT
END:VEVENT
BEGIN:VEVENT
DTSTART;VALUE=DATE:20261127
DTEND;VALUE=DATE:20261128
SUMMARY:Day after Thanksgiving — No School
DESCRIPTION:Yonkers Public Schools school holiday
UID:20261127-DayafterThanksgiving-yonkers@nyschoolcalendar.com
STATUS:CONFIRMED
TRANSP:TRANSPARENT
END:VEVENT
BEGIN:VEVENT
DTSTART;VALUE=DATE:20270118
DTEND;VALUE=DATE:20270119
SUMMARY:MLK Day — No School
DESCRIPTION:Yonkers Public Schools school holiday
UID:20270118-MLKDay-yonkers@nyschoolcalendar.com
STATUS:CONFIRMED
TRANSP:TRANSPARENT
END:VEVENT
BEGIN:VEVENT
DTSTART;VALUE=DATE:20270310
DTEND;VALUE=DATE:20270311
SUMMARY:Eid al-Fitr — No School
DESCRIPTION:Yonkers Public Schools school holiday
UID:20270310-EidalFitr-yonkers@nyschoolcalendar.com
STATUS:CONFIRMED
TRANSP:TRANSPARENT
END:VEVENT
BEGIN:VEVENT
DTSTART;VALUE=DATE:20270422
DTEND;VALUE=DATE:20270423
SUMMARY:Passover — No School
DESCRIPTION:Yonkers Public Schools school holiday
UID:20270422-Passover-yonkers@nyschoolcalendar.com
STATUS:CONFIRMED
TRANSP:TRANSPARENT
END:VEVENT
BEGIN:VEVENT
DTSTART;VALUE=DATE:20270423
DTEND;VALUE=DATE:20270424
SUMMARY:Passover — No School
DESCRIPTION:Yonkers Public Schools school holiday
UID:20270423-Passover-yonkers@nyschoolcalendar.com
STATUS:CONFIRMED
TRANSP:TRANSPARENT
END:VEVENT
BEGIN:VEVENT
DTSTART;VALUE=DATE:20270531
DTEND;VALUE=DATE:20270601
SUMMARY:Memorial Day — No School
DESCRIPTION:Yonkers Public Schools school holiday
UID:20270531-MemorialDay-yonkers@nyschoolcalendar.com
STATUS:CONFIRMED
TRANSP:TRANSPARENT
END:VEVENT
BEGIN:VEVENT
DTSTART;VALUE=DATE:20270618
DTEND;VALUE=DATE:20270619
SUMMARY:Juneteenth (observed) — No School
DESCRIPTION:Yonkers Public Schools school holiday
UID:20270618-Juneteenthobserved-yonkers@nyschoolcalendar.com
STATUS:CONFIRMED
TRANSP:TRANSPARENT
END:VEVENT
BEGIN:VEVENT
DTSTART;VALUE=DATE:20261224
DTEND;VALUE=DATE:20270102
SUMMARY:Winter Recess — No School
DESCRIPTION:Yonkers Public Schools Winter Recess
UID:20261224-WinterRecess-yonkers@nyschoolcalendar.com
STATUS:CONFIRMED
TRANSP:TRANSPARENT
END:VEVENT
BEGIN:VEVENT
DTSTART;VALUE=DATE:20270215
DTEND;VALUE=DATE:20270220
SUMMARY:Mid-Winter Recess — No School
DESCRIPTION:Yonkers Public Schools Mid-Winter Recess
UID:20270215-MidWinterRecess-yonkers@nyschoolcalendar.com
STATUS:CONFIRMED
TRANSP:TRANSPARENT
END:VEVENT
BEGIN:VEVENT
DTSTART;VALUE=DATE:20270322
DTEND;VALUE=DATE:20270327
SUMMARY:Spring Recess — No School
DESCRIPTION:Yonkers Public Schools Spring Recess
UID:20270322-SpringRecess-yonkers@nyschoolcalendar.com
STATUS:CONFIRMED
TRANSP:TRANSPARENT
END:VEVENT
BEGIN:VEVENT
DTSTART;VALUE=DATE:20270126
DTEND;VALUE=DATE:20270130
SUMMARY:Regents Exams (January) (Yonkers)
DESCRIPTION:Yonkers Public Schools — Regents Exams (January)
UID:20270126-RegentsExamsJanuary-yonkers@nyschoolcalendar.com
STATUS:CONFIRMED
TRANSP:TRANSPARENT
END:VEVENT
BEGIN:VEVENT
DTSTART;VALUE=DATE:20270615
DTEND;VALUE=DATE:20270626
SUMMARY:Regents Exams (June) (Yonkers)
DESCRIPTION:Yonkers Public Schools — Regents Exams (June)
UID:20270615-RegentsExamsJune-yonkers@nyschoolcalendar.com
STATUS:CONFIRMED
TRANSP:TRANSPARENT
END:VEVENT
END:VCALENDAR
